BEGIN:VCALENDAR
PRODID:-//Microsoft Corporation//Outlook 12.0 MIMEDIR//EN
VERSION:2.0
CALSCALE:GREGORIAN
BEGIN:VEVENT
UID: 2f52d8d3-6220-40b4-8657-a987338270e7
SUMMARY:Erasmus õpirände programmi infotund
DTSTAMP:20240925
DTSTART:20240925
DTEND:20240926
DURATION:P1D
LOCATION:
DESCRIPTION: <p><strong>Link: </strong>https://tark.edu.ee/et/sundmuste-kalender/erasmus-opirande-programmi-infotund</p><p><strong>Hind: </strong></p>
STATUS:CONFIRMED
SEQUENCE:3
X-ALT-DESC;FMTTYPE=text/html:<p><strong>Link: </strong>https://tark.edu.ee/et/sundmuste-kalender/erasmus-opirande-programmi-infotund</p><p><strong>Hind: </strong></p>
X-MICROSOFT-CDO-BUSYSTATUS:OOF
X-MICROSOFT-CDO-IMPORTANCE:1
X-MICROSOFT-DISALLOW-COUNTER:FALSE
X-MS-OLK-ALLOWEXTERNCHECK:TRUE
X-MS-OLK-CONFTYPE:0
X-MICROSOFT-CDO-ALLDAYEVENT:1
X-MICROSOFT-MSNCALENDAR-ALLDAYEVENT:1
END:VEVENT
END:VCALENDAR